BEGIN:VCALENDAR
VERSION:2.0
PRODID:-//Revista de la Construcción - ECPv6.7.0//NONSGML v1.0//EN
CALSCALE:GREGORIAN
METHOD:PUBLISH
X-ORIGINAL-URL:https://www.revistadelaconstruccion.com
X-WR-CALDESC:Eventos para Revista de la Construcción
REFRESH-INTERVAL;VALUE=DURATION:PT1H
X-Robots-Tag:noindex
X-PUBLISHED-TTL:PT1H
BEGIN:VTIMEZONE
TZID:Europe/Madrid
BEGIN:DAYLIGHT
TZOFFSETFROM:+0100
TZOFFSETTO:+0200
TZNAME:CEST
DTSTART:20240331T010000
END:DAYLIGHT
BEGIN:STANDARD
TZOFFSETFROM:+0200
TZOFFSETTO:+0100
TZNAME:CET
DTSTART:20241027T010000
END:STANDARD
END:VTIMEZONE
BEGIN:VEVENT
DTSTART;VALUE=DATE:20240930
DTEND;VALUE=DATE:20241004
DTSTAMP:20260421T110145
CREATED:20240612T095508Z
LAST-MODIFIED:20240612T095508Z
UID:18680-1727654400-1727999999@www.revistadelaconstruccion.com
SUMMARY:Feria Hábitat 2024 Valencia
DESCRIPTION:Acceder a la web del evento \nFeria Hábitat es el principal escaparate internacional de la industria española del hábitat\, que cuenta con una amplia oferta de mueble\, iluminación\, decoración\, tapizado y descanso. Este encuentro reúne cada año a más de 600 firmas nacionales e internacionales y en su última edición acogió más de 45.000 visitantes profesionales procedentes de 70 países.
URL:https://www.revistadelaconstruccion.com/evento/feria-habitat-2024-valencia/
LOCATION:Feria Valencia\, Av. de les Fires\, s/n\, Valencia\, 46035\, España
END:VEVENT
BEGIN:VEVENT
DTSTART;VALUE=DATE:20241016
DTEND;VALUE=DATE:20241018
DTSTAMP:20260421T110145
CREATED:20240612T094928Z
LAST-MODIFIED:20240612T094928Z
UID:18677-1729036800-1729209599@www.revistadelaconstruccion.com
SUMMARY:Efintec 2024
DESCRIPTION:Acceder a la web del evento \nEFINTEC es la feria de referencia del sector de la instalación y la energía. \nReúne 8.000 profesionales\, mayoritariamente instaladores\, pero también arquitectos\, ingenieros o perfiles técnicos\, y se encuentran 180 expositores\, entre fabricantes\, distribuidores y empresas afines al sector. Además\, cuenta con el apoyo de las principales instituciones y asociaciones profesionales.
URL:https://www.revistadelaconstruccion.com/evento/efintec-2024/
LOCATION:Fira de Barcelona\, Recinto de Gran Via Avinguda de Joan Carles I\, 64\, L'Hospitalet de Llobregat\, Barcelona\, 08908\, España
END:VEVENT
BEGIN:VEVENT
DTSTART;VALUE=DATE:20241022
DTEND;VALUE=DATE:20241025
DTSTAMP:20260421T110145
CREATED:20240926T082059Z
LAST-MODIFIED:20240926T082059Z
UID:19196-1729555200-1729814399@www.revistadelaconstruccion.com
SUMMARY:REHABILITA 2024
DESCRIPTION:Accede a la web del evento.
URL:https://www.revistadelaconstruccion.com/evento/rehabilita-2024/
LOCATION:Palacio de Exposiciones y Congresos de Sevilla\, FIBES – Palacio de Exposiciones y Congresos de Sevilla Avda. Alcalde Luis Uruñuela\, 1. 41020 Sevilla\, Sevilla\, 41020\, España
END:VEVENT
END:VCALENDAR