BEGIN:VCALENDAR
VERSION:2.0
PRODID:-//Revista de la Construcción - ECPv6.7.0//NONSGML v1.0//EN
CALSCALE:GREGORIAN
METHOD:PUBLISH
X-ORIGINAL-URL:https://www.revistadelaconstruccion.com
X-WR-CALDESC:Eventos para Revista de la Construcción
REFRESH-INTERVAL;VALUE=DURATION:PT1H
X-Robots-Tag:noindex
X-PUBLISHED-TTL:PT1H
BEGIN:VTIMEZONE
TZID:Europe/Madrid
BEGIN:DAYLIGHT
TZOFFSETFROM:+0100
TZOFFSETTO:+0200
TZNAME:CEST
DTSTART:20220327T010000
END:DAYLIGHT
BEGIN:STANDARD
TZOFFSETFROM:+0200
TZOFFSETTO:+0100
TZNAME:CET
DTSTART:20221030T010000
END:STANDARD
END:VTIMEZONE
BEGIN:VEVENT
DTSTART;VALUE=DATE:20221014
DTEND;VALUE=DATE:20221017
DTSTAMP:20260423T013238
CREATED:20220628T084859Z
LAST-MODIFIED:20220628T084859Z
UID:9661-1665705600-1665964799@www.revistadelaconstruccion.com
SUMMARY:Ibiza Home Meeting 2022
DESCRIPTION:Acceder a la web del evento. \nII Feria sobre las novedades de empresas de España e internacionales relacionadas con el sector Inmobiliario y de la Construcción.Tendrá lugar los días 14 al 16 de octubre de 2022 en FECOEF- Ferias\, Congresos y Eventos de Ibiza.
URL:https://www.revistadelaconstruccion.com/evento/ibiza-home-meeting-2022/
LOCATION:FECOEF- Ferias\, Congresos y Eventos de Ibiza
END:VEVENT
BEGIN:VEVENT
DTSTART;VALUE=DATE:20221019
DTEND;VALUE=DATE:20221021
DTSTAMP:20260423T013238
CREATED:20220628T085139Z
LAST-MODIFIED:20220628T085139Z
UID:9664-1666137600-1666310399@www.revistadelaconstruccion.com
SUMMARY:Egurtek 2022
DESCRIPTION:Acceder a la web del evento. \nEgurtek se ha convertido en una cita ineludible para arquitectos e ingenieros y de todos aquellos profesionales del sector que tienen relación con la madera.
URL:https://www.revistadelaconstruccion.com/evento/egurtek-2022/
END:VEVENT
BEGIN:VEVENT
DTSTART;VALUE=DATE:20221019
DTEND;VALUE=DATE:20221022
DTSTAMP:20260423T013238
CREATED:20221018T072039Z
LAST-MODIFIED:20221018T072039Z
UID:10261-1666137600-1666396799@www.revistadelaconstruccion.com
SUMMARY:The District Show 2022
DESCRIPTION:Acceder a la web del evento.
URL:https://www.revistadelaconstruccion.com/evento/the-district-show-2022/
LOCATION:Fira de Barcelona\, Recinto de Gran Via Avinguda de Joan Carles I\, 64\, L'Hospitalet de Llobregat\, Barcelona\, 08908\, España
END:VEVENT
END:VCALENDAR