BEGIN:VCALENDAR
VERSION:2.0
PRODID:-//Revista de la Construcción - ECPv6.7.0//NONSGML v1.0//EN
CALSCALE:GREGORIAN
METHOD:PUBLISH
X-WR-CALNAME:Revista de la Construcción
X-ORIGINAL-URL:https://www.revistadelaconstruccion.com
X-WR-CALDESC:Eventos para Revista de la Construcción
REFRESH-INTERVAL;VALUE=DURATION:PT1H
X-Robots-Tag:noindex
X-PUBLISHED-TTL:PT1H
BEGIN:VTIMEZONE
TZID:Europe/Madrid
BEGIN:DAYLIGHT
TZOFFSETFROM:+0100
TZOFFSETTO:+0200
TZNAME:CEST
DTSTART:20210328T010000
END:DAYLIGHT
BEGIN:STANDARD
TZOFFSETFROM:+0200
TZOFFSETTO:+0100
TZNAME:CET
DTSTART:20211031T010000
END:STANDARD
END:VTIMEZONE
BEGIN:VEVENT
DTSTART;VALUE=DATE:20210927
DTEND;VALUE=DATE:20211002
DTSTAMP:20260423T210356
CREATED:20210914T093547Z
LAST-MODIFIED:20210914T093547Z
UID:6792-1632700800-1633132799@www.revistadelaconstruccion.com
SUMMARY:Rehabilita 2021
DESCRIPTION:Acceder a la web del evento
URL:https://www.revistadelaconstruccion.com/evento/rehabilita-2021/
END:VEVENT
BEGIN:VEVENT
DTSTART;TZID=Europe/Madrid:20211007T093000
DTEND;TZID=Europe/Madrid:20211007T110000
DTSTAMP:20260423T210356
CREATED:20211006T141715Z
LAST-MODIFIED:20211006T141715Z
UID:7068-1633599000-1633604400@www.revistadelaconstruccion.com
SUMMARY:Encuentro Técnico “El futuro de la climatización en la nueva vivienda”
DESCRIPTION:Acceder a la web del evento
URL:https://www.revistadelaconstruccion.com/evento/encuentro-tecnico-el-futuro-de-la-climatizacion-en-la-nueva-vivienda/
END:VEVENT
BEGIN:VEVENT
DTSTART;TZID=Europe/Madrid:20211027T163000
DTEND;TZID=Europe/Madrid:20211027T210000
DTSTAMP:20260423T210356
CREATED:20211027T105813Z
LAST-MODIFIED:20211027T105813Z
UID:7332-1635352200-1635368400@www.revistadelaconstruccion.com
SUMMARY:I Encuentro profesional ADIPAEX
DESCRIPTION:
URL:https://www.revistadelaconstruccion.com/evento/i-encuentro-profesional-adipaex/
LOCATION:La Galería ABC (Plaza de Cuba\, nº10)\, Plaza de Cuba\, nº10\, Sevilla\, Sevilla\, 41011\, España
END:VEVENT
END:VCALENDAR