BEGIN:VCALENDAR
VERSION:2.0
PRODID:-//Revista de la Construcción - ECPv6.7.0//NONSGML v1.0//EN
CALSCALE:GREGORIAN
METHOD:PUBLISH
X-ORIGINAL-URL:https://www.revistadelaconstruccion.com
X-WR-CALDESC:Eventos para Revista de la Construcción
REFRESH-INTERVAL;VALUE=DURATION:PT1H
X-Robots-Tag:noindex
X-PUBLISHED-TTL:PT1H
BEGIN:VTIMEZONE
TZID:Europe/Madrid
BEGIN:DAYLIGHT
TZOFFSETFROM:+0100
TZOFFSETTO:+0200
TZNAME:CEST
DTSTART:20210328T010000
END:DAYLIGHT
BEGIN:STANDARD
TZOFFSETFROM:+0200
TZOFFSETTO:+0100
TZNAME:CET
DTSTART:20211031T010000
END:STANDARD
END:VTIMEZONE
BEGIN:VEVENT
DTSTART;TZID=Europe/Madrid:20210701T090000
DTEND;TZID=Europe/Madrid:20210701T203000
DTSTAMP:20260424T014002
CREATED:20210615T133759Z
LAST-MODIFIED:20210615T133759Z
UID:5947-1625130000-1625171400@www.revistadelaconstruccion.com
SUMMARY:Fórum de Urbanismo y Construcción Sostenible
DESCRIPTION:
URL:https://www.revistadelaconstruccion.com/evento/forum-de-urbanismo-y-construccion-sostenible/
LOCATION:Hotel AC Oviedo Forum\, Oviedo
END:VEVENT
BEGIN:VEVENT
DTSTART;VALUE=DATE:20210706
DTEND;VALUE=DATE:20210708
DTSTAMP:20260424T014002
CREATED:20210705T100253Z
LAST-MODIFIED:20210705T100253Z
UID:6444-1625529600-1625702399@www.revistadelaconstruccion.com
SUMMARY:Jornada Online Sobre Aerotermia\, una oportunidad para la recuperación verde en Murcia
DESCRIPTION:
URL:https://www.revistadelaconstruccion.com/evento/jornada-online-sobre-aerotermia-una-oportunidad-para-la-recuperacion-verde-en-murcia/
CATEGORIES:Webinar
END:VEVENT
BEGIN:VEVENT
DTSTART;TZID=Europe/Madrid:20210708T120000
DTEND;TZID=Europe/Madrid:20210708T140000
DTSTAMP:20260424T014002
CREATED:20210622T114916Z
LAST-MODIFIED:20210708T075214Z
UID:6110-1625745600-1625752800@www.revistadelaconstruccion.com
SUMMARY:Webinar: Certificación de edificios sostenibles con materiales cerámicos. Sellos VERDE\, LEED y BREEAM
DESCRIPTION:Acceder a la web del evento
URL:https://www.revistadelaconstruccion.com/evento/webinar-certificacion-de-edificios-sostenibles-con-materiales-ceramicos-sellos-verde-leed-y-breeam/
CATEGORIES:Webinar
END:VEVENT
BEGIN:VEVENT
DTSTART;TZID=Europe/Madrid:20210715T100000
DTEND;TZID=Europe/Madrid:20210715T100000
DTSTAMP:20260424T014002
CREATED:20210709T081531Z
LAST-MODIFIED:20210709T081531Z
UID:6498-1626343200-1626343200@www.revistadelaconstruccion.com
SUMMARY:Rondas Técnicas: Especial Aislamiento Acústico
DESCRIPTION:Acceder a la web del evento
URL:https://www.revistadelaconstruccion.com/evento/rondas-tecnicas-especial-aislamiento-acustico/
END:VEVENT
BEGIN:VEVENT
DTSTART;TZID=Europe/Madrid:20210721T160000
DTEND;TZID=Europe/Madrid:20210721T170000
DTSTAMP:20260424T014002
CREATED:20210708T074755Z
LAST-MODIFIED:20210708T075100Z
UID:6465-1626883200-1626886800@www.revistadelaconstruccion.com
SUMMARY:Tecnología y seguridad al servicio de las piscinas y centros acuáticos
DESCRIPTION:Acceder a la web del evento
URL:https://www.revistadelaconstruccion.com/evento/tecnologia-y-seguridad-al-servicio-de-las-piscinas-y-centros-acuaticos/
CATEGORIES:Webinar
END:VEVENT
BEGIN:VEVENT
DTSTART;TZID=Europe/Madrid:20210729T110000
DTEND;TZID=Europe/Madrid:20210729T130000
DTSTAMP:20260424T014002
CREATED:20210621T074031Z
LAST-MODIFIED:20210621T074305Z
UID:5988-1627556400-1627563600@www.revistadelaconstruccion.com
SUMMARY:Webinar: Hormigón ecológico de alta densidad para aplicaciones radiológicas
DESCRIPTION:
URL:https://www.revistadelaconstruccion.com/evento/webinar-hormigon-ecologico-de-alta-densidad-para-aplicaciones-radiologicas/
CATEGORIES:Webinar
END:VEVENT
END:VCALENDAR