BEGIN:VCALENDAR
VERSION:2.0
PRODID:-//Revista de la Construcción - ECPv6.7.0//NONSGML v1.0//EN
CALSCALE:GREGORIAN
METHOD:PUBLISH
X-ORIGINAL-URL:https://www.revistadelaconstruccion.com
X-WR-CALDESC:Eventos para Revista de la Construcción
REFRESH-INTERVAL;VALUE=DURATION:PT1H
X-Robots-Tag:noindex
X-PUBLISHED-TTL:PT1H
BEGIN:VTIMEZONE
TZID:Europe/Madrid
BEGIN:DAYLIGHT
TZOFFSETFROM:+0100
TZOFFSETTO:+0200
TZNAME:CEST
DTSTART:20210328T010000
END:DAYLIGHT
BEGIN:STANDARD
TZOFFSETFROM:+0200
TZOFFSETTO:+0100
TZNAME:CET
DTSTART:20211031T010000
END:STANDARD
END:VTIMEZONE
BEGIN:VEVENT
DTSTART;TZID=Europe/Madrid:20211123T090000
DTEND;TZID=Europe/Madrid:20211123T140000
DTSTAMP:20260422T104132
CREATED:20211102T120452Z
LAST-MODIFIED:20211102T120452Z
UID:7369-1637658000-1637676000@www.revistadelaconstruccion.com
SUMMARY:ANCECO XIII Congreso Nacional
DESCRIPTION:Acceder a la web del evento
URL:https://www.revistadelaconstruccion.com/evento/anceco-xiii-congreso-nacional/
LOCATION:AUDITORIO MEIER (MACBA)\, Plaça dels Àngels\, 1 Barcelona\, Barcelona\, Barcelona\, 08001\, España
END:VEVENT
END:VCALENDAR