BEGIN:VCALENDAR
VERSION:2.0
PRODID:-//Revista de la Construcción - ECPv6.7.0//NONSGML v1.0//EN
CALSCALE:GREGORIAN
METHOD:PUBLISH
X-ORIGINAL-URL:https://www.revistadelaconstruccion.com
X-WR-CALDESC:Eventos para Revista de la Construcción
REFRESH-INTERVAL;VALUE=DURATION:PT1H
X-Robots-Tag:noindex
X-PUBLISHED-TTL:PT1H
BEGIN:VTIMEZONE
TZID:Europe/Madrid
BEGIN:DAYLIGHT
TZOFFSETFROM:+0100
TZOFFSETTO:+0200
TZNAME:CEST
DTSTART:20240331T010000
END:DAYLIGHT
BEGIN:STANDARD
TZOFFSETFROM:+0200
TZOFFSETTO:+0100
TZNAME:CET
DTSTART:20241027T010000
END:STANDARD
END:VTIMEZONE
BEGIN:VEVENT
DTSTART;VALUE=DATE:20240930
DTEND;VALUE=DATE:20241004
DTSTAMP:20260421T123505
CREATED:20240612T095508Z
LAST-MODIFIED:20240612T095508Z
UID:18680-1727654400-1727999999@www.revistadelaconstruccion.com
SUMMARY:Feria Hábitat 2024 Valencia
DESCRIPTION:Acceder a la web del evento \nFeria Hábitat es el principal escaparate internacional de la industria española del hábitat\, que cuenta con una amplia oferta de mueble\, iluminación\, decoración\, tapizado y descanso. Este encuentro reúne cada año a más de 600 firmas nacionales e internacionales y en su última edición acogió más de 45.000 visitantes profesionales procedentes de 70 países.
URL:https://www.revistadelaconstruccion.com/evento/feria-habitat-2024-valencia/
LOCATION:Feria Valencia\, Av. de les Fires\, s/n\, Valencia\, 46035\, España
END:VEVENT
END:VCALENDAR