BEGIN:VCALENDAR
VERSION:2.0
PRODID:-//Revista de la Construcción - ECPv6.7.0//NONSGML v1.0//EN
CALSCALE:GREGORIAN
METHOD:PUBLISH
X-WR-CALNAME:Revista de la Construcción
X-ORIGINAL-URL:https://www.revistadelaconstruccion.com
X-WR-CALDESC:Eventos para Revista de la Construcción
REFRESH-INTERVAL;VALUE=DURATION:PT1H
X-Robots-Tag:noindex
X-PUBLISHED-TTL:PT1H
BEGIN:VTIMEZONE
TZID:Europe/Madrid
BEGIN:DAYLIGHT
TZOFFSETFROM:+0100
TZOFFSETTO:+0200
TZNAME:CEST
DTSTART:20240331T010000
END:DAYLIGHT
BEGIN:STANDARD
TZOFFSETFROM:+0200
TZOFFSETTO:+0100
TZNAME:CET
DTSTART:20241027T010000
END:STANDARD
END:VTIMEZONE
BEGIN:VEVENT
DTSTART;VALUE=DATE:20240521
DTEND;VALUE=DATE:20240524
DTSTAMP:20260421T201622
CREATED:20240321T151020Z
LAST-MODIFIED:20240321T151020Z
UID:12331-1716249600-1716508799@www.revistadelaconstruccion.com
SUMMARY:Construmat 2024
DESCRIPTION:Acceder a la web el evento. \nTu cita sectorial en Barcelona — Eficiencia energética\, passive house\, materiales renovables\, bioclimáticos y mucho más. Súmate al congreso clave para conocer los proyectos que están transformando el sector. \n 
URL:https://www.revistadelaconstruccion.com/evento/construmat-2024/
LOCATION:Fira de Barcelona\, Recinto de Gran Via Avinguda de Joan Carles I\, 64\, L'Hospitalet de Llobregat\, Barcelona\, 08908\, España
END:VEVENT
END:VCALENDAR