BEGIN:VCALENDAR
VERSION:2.0
PRODID:-//Revista de la Construcción - ECPv6.7.0//NONSGML v1.0//EN
CALSCALE:GREGORIAN
METHOD:PUBLISH
X-ORIGINAL-URL:https://www.revistadelaconstruccion.com
X-WR-CALDESC:Eventos para Revista de la Construcción
REFRESH-INTERVAL;VALUE=DURATION:PT1H
X-Robots-Tag:noindex
X-PUBLISHED-TTL:PT1H
BEGIN:VTIMEZONE
TZID:Europe/Madrid
BEGIN:DAYLIGHT
TZOFFSETFROM:+0100
TZOFFSETTO:+0200
TZNAME:CEST
DTSTART:20230326T010000
END:DAYLIGHT
BEGIN:STANDARD
TZOFFSETFROM:+0200
TZOFFSETTO:+0100
TZNAME:CET
DTSTART:20231029T010000
END:STANDARD
END:VTIMEZONE
BEGIN:VEVENT
DTSTART;VALUE=DATE:20230601
DTEND;VALUE=DATE:20230603
DTSTAMP:20260422T133804
CREATED:20230514T174238Z
LAST-MODIFIED:20230514T174238Z
UID:10945-1685577600-1685750399@www.revistadelaconstruccion.com
SUMMARY:3er Fórum Internacional de construcción con madera
DESCRIPTION:Acceder a la web del evento. \nLos próximos 1 y 2 de junio se va a celebrar en el Palacio de Congresos Baluarte (Pamplona)\, el 3er Fórum Internacional de Construcción con Madera\, organizado por la plataforma FORUM HOLZBAU\, en colaboración con la Cátedra Madera de la Universidad de Navarra. \n  \nEn la zona expositiva van a estar presentes las empresas más importantes del sector\, tanto a nivel nacional como internacional\, pertenecientes a todos los ámbitos de la construcción madera. Allí podréis informaros ampliamente de todos sus productos y novedades.
URL:https://www.revistadelaconstruccion.com/evento/3er-forum-internacional-de-construccion-con-madera/
LOCATION:Palacio de Congresos Baluarte\, Pl. del Baluarte\, s/n\, 31002 Pamplona\, Navarra\, Pamplona\, Navarra\, 31002\, España
END:VEVENT
END:VCALENDAR