BEGIN:VCALENDAR
VERSION:2.0
PRODID:-//Revista de la Construcción - ECPv6.7.0//NONSGML v1.0//EN
CALSCALE:GREGORIAN
METHOD:PUBLISH
X-WR-CALNAME:Revista de la Construcción
X-ORIGINAL-URL:https://www.revistadelaconstruccion.com
X-WR-CALDESC:Eventos para Revista de la Construcción
REFRESH-INTERVAL;VALUE=DURATION:PT1H
X-Robots-Tag:noindex
X-PUBLISHED-TTL:PT1H
BEGIN:VTIMEZONE
TZID:Europe/Madrid
BEGIN:DAYLIGHT
TZOFFSETFROM:+0100
TZOFFSETTO:+0200
TZNAME:CEST
DTSTART:20220327T010000
END:DAYLIGHT
BEGIN:STANDARD
TZOFFSETFROM:+0200
TZOFFSETTO:+0100
TZNAME:CET
DTSTART:20221030T010000
END:STANDARD
END:VTIMEZONE
BEGIN:VEVENT
DTSTART;TZID=Europe/Madrid:20221124T080000
DTEND;TZID=Europe/Madrid:20221124T170000
DTSTAMP:20260423T013002
CREATED:20221121T121536Z
LAST-MODIFIED:20221121T121536Z
UID:10480-1669276800-1669309200@www.revistadelaconstruccion.com
SUMMARY:II Encuentro Profesional Adipaex
DESCRIPTION:Acceder a la web del evento. \n  \n 
URL:https://www.revistadelaconstruccion.com/evento/ii-encuentro-profesional-adipaex/
LOCATION:Hotel Alfonso XIII\, C. San Fernando\, 2\, Sevilla\, Sevilla\, 41004\, España
END:VEVENT
END:VCALENDAR