BEGIN:VCALENDAR
VERSION:2.0
PRODID:-//Revista de la Construcción - ECPv6.7.0//NONSGML v1.0//EN
CALSCALE:GREGORIAN
METHOD:PUBLISH
X-ORIGINAL-URL:https://www.revistadelaconstruccion.com
X-WR-CALDESC:Eventos para Revista de la Construcción
REFRESH-INTERVAL;VALUE=DURATION:PT1H
X-Robots-Tag:noindex
X-PUBLISHED-TTL:PT1H
BEGIN:VTIMEZONE
TZID:Europe/Madrid
BEGIN:DAYLIGHT
TZOFFSETFROM:+0100
TZOFFSETTO:+0200
TZNAME:CEST
DTSTART:20220327T010000
END:DAYLIGHT
BEGIN:STANDARD
TZOFFSETFROM:+0200
TZOFFSETTO:+0100
TZNAME:CET
DTSTART:20221030T010000
END:STANDARD
END:VTIMEZONE
BEGIN:VEVENT
DTSTART;VALUE=DATE:20221102
DTEND;VALUE=DATE:20221106
DTSTAMP:20260423T013340
CREATED:20220706T152839Z
LAST-MODIFIED:20220706T152839Z
UID:9778-1667347200-1667692799@www.revistadelaconstruccion.com
SUMMARY:I Edición Semana de la Construcción MATCOAM
DESCRIPTION:Acceder al sitio web. \n\nEl Colegio Oficial de Arquitectos de Madrid organiza su I Semana de la Construcción del 2 al 5 de noviembre\nEl Colegio Oficial de Arquitectos de Madrid\, a través de su departamento de Edificación MATCOAM\, organiza la primera edición de la Semana de la Construcción MATCOAM\, que tendrá lugar del 2 al 5 de noviembre de 2022 en la sede del COAM\, en la calle Hortaleza\, 63 de Madrid.  \nUn nuevo salón que apuesta por la innovación y la sostenibilidad\, los espacios expositivos de calidad y un congreso de alto nivel\, así como su ubicación privilegiada en pleno centro de la ciudad son los principales reclamos de este nuevo salón de la construcción. Las empresas del sector tendrán la oportunidad de presentar a los prescriptores sus sistemas y productos más avanzados de la forma más directa posible\, en la propia «casa» de los arquitectos.
URL:https://www.revistadelaconstruccion.com/evento/i-edicion-semana-de-la-construccion-matcoam/
END:VEVENT
BEGIN:VEVENT
DTSTART;VALUE=DATE:20221103
DTEND;VALUE=DATE:20221114
DTSTAMP:20260423T013340
CREATED:20221107T113758Z
LAST-MODIFIED:20221107T113758Z
UID:10402-1667433600-1668383999@www.revistadelaconstruccion.com
SUMMARY:Marbella Design Art 2022
DESCRIPTION:Acceder a la web del evento.
URL:https://www.revistadelaconstruccion.com/evento/marbella-design-art-2022/
LOCATION:Palacio de Congresos y Exposiciones Adolfo Suarez\, C. José Meliá\, 2\, Marbella\, Málaga\, 29602\, España
END:VEVENT
END:VCALENDAR