BEGIN:VCALENDAR
VERSION:2.0
PRODID:-//Revista de la Construcción - ECPv6.7.0//NONSGML v1.0//EN
CALSCALE:GREGORIAN
METHOD:PUBLISH
X-ORIGINAL-URL:https://www.revistadelaconstruccion.com
X-WR-CALDESC:Eventos para Revista de la Construcción
REFRESH-INTERVAL;VALUE=DURATION:PT1H
X-Robots-Tag:noindex
X-PUBLISHED-TTL:PT1H
BEGIN:VTIMEZONE
TZID:Europe/Madrid
BEGIN:DAYLIGHT
TZOFFSETFROM:+0100
TZOFFSETTO:+0200
TZNAME:CEST
DTSTART:20220327T010000
END:DAYLIGHT
BEGIN:STANDARD
TZOFFSETFROM:+0200
TZOFFSETTO:+0100
TZNAME:CET
DTSTART:20221030T010000
END:STANDARD
END:VTIMEZONE
BEGIN:VEVENT
DTSTART;TZID=Europe/Madrid:20220505T113000
DTEND;TZID=Europe/Madrid:20220505T183000
DTSTAMP:20260423T110039
CREATED:20220429T131616Z
LAST-MODIFIED:20220429T131616Z
UID:8745-1651750200-1651775400@www.revistadelaconstruccion.com
SUMMARY:4º Congreso de Instaladores de Aislamiento
DESCRIPTION:Acceder a la página del evento
URL:https://www.revistadelaconstruccion.com/evento/4o-congreso-de-instaladores-de-aislamiento/
LOCATION:Compleo Cigueña\, Ctra. Puente de Arganda a Chinchón\, km. 2\,5\, Arganda\, Madrid\, 28500\, España
END:VEVENT
END:VCALENDAR