BEGIN:VCALENDAR
VERSION:2.0
PRODID:-//Revista de la Construcción - ECPv6.7.0//NONSGML v1.0//EN
CALSCALE:GREGORIAN
METHOD:PUBLISH
X-WR-CALNAME:Revista de la Construcción
X-ORIGINAL-URL:https://www.revistadelaconstruccion.com
X-WR-CALDESC:Eventos para Revista de la Construcción
REFRESH-INTERVAL;VALUE=DURATION:PT1H
X-Robots-Tag:noindex
X-PUBLISHED-TTL:PT1H
BEGIN:VTIMEZONE
TZID:Europe/Madrid
BEGIN:DAYLIGHT
TZOFFSETFROM:+0100
TZOFFSETTO:+0200
TZNAME:CEST
DTSTART:20210328T010000
END:DAYLIGHT
BEGIN:STANDARD
TZOFFSETFROM:+0200
TZOFFSETTO:+0100
TZNAME:CET
DTSTART:20211031T010000
END:STANDARD
END:VTIMEZONE
BEGIN:VEVENT
DTSTART;VALUE=DATE:20211116
DTEND;VALUE=DATE:20211119
DTSTAMP:20260423T205035
CREATED:20211026T083116Z
LAST-MODIFIED:20211026T083116Z
UID:7327-1637020800-1637279999@www.revistadelaconstruccion.com
SUMMARY:GENERA 2021
DESCRIPTION:Acceder a la web del evento
URL:https://www.revistadelaconstruccion.com/evento/genera-2021/
LOCATION:IFEMA Feria de Madrid\, Av. del Partenón\, 5\, 28042 Madrid\, Madrid\, 28042\, España
END:VEVENT
BEGIN:VEVENT
DTSTART;VALUE=DATE:20211116
DTEND;VALUE=DATE:20211120
DTSTAMP:20260423T205035
CREATED:20210630T120708Z
LAST-MODIFIED:20210701T103044Z
UID:6333-1637020800-1637366399@www.revistadelaconstruccion.com
SUMMARY:Salón Internacional de la Climatización y la Refrigeración 2021
DESCRIPTION:
URL:https://www.revistadelaconstruccion.com/evento/salon-internacional-de-la-climatizacion-y-la-refrigeracion-2021/
LOCATION:IFEMA Feria de Madrid\, Av. del Partenón\, 5\, 28042 Madrid\, Madrid\, 28042\, España
END:VEVENT
END:VCALENDAR