BEGIN:VCALENDAR
VERSION:2.0
PRODID:-//Revista de la Construcción - ECPv6.7.0//NONSGML v1.0//EN
CALSCALE:GREGORIAN
METHOD:PUBLISH
X-ORIGINAL-URL:https://www.revistadelaconstruccion.com
X-WR-CALDESC:Eventos para Revista de la Construcción
REFRESH-INTERVAL;VALUE=DURATION:PT1H
X-Robots-Tag:noindex
X-PUBLISHED-TTL:PT1H
BEGIN:VTIMEZONE
TZID:Europe/Madrid
BEGIN:DAYLIGHT
TZOFFSETFROM:+0100
TZOFFSETTO:+0200
TZNAME:CEST
DTSTART:20210328T010000
END:DAYLIGHT
BEGIN:STANDARD
TZOFFSETFROM:+0200
TZOFFSETTO:+0100
TZNAME:CET
DTSTART:20211031T010000
END:STANDARD
END:VTIMEZONE
BEGIN:VEVENT
DTSTART;VALUE=DATE:20210921
DTEND;VALUE=DATE:20210924
DTSTAMP:20260424T000715
CREATED:20210701T101252Z
LAST-MODIFIED:20210722T080259Z
UID:6379-1632182400-1632441599@www.revistadelaconstruccion.com
SUMMARY:REBUILD 2021 - Congreso de Arquitectura y Construcción 4.0
DESCRIPTION:Acceder a la web del evento
URL:https://www.revistadelaconstruccion.com/evento/rebuild-2021-congreso-de-arquitectura-y-construccion-4-0/
LOCATION:IFEMA Feria de Madrid\, Av. del Partenón\, 5\, 28042 Madrid\, Madrid\, 28042\, España
END:VEVENT
BEGIN:VEVENT
DTSTART;VALUE=DATE:20210921
DTEND;VALUE=DATE:20210924
DTSTAMP:20260424T000715
CREATED:20210902T070827Z
LAST-MODIFIED:20210902T070827Z
UID:6722-1632182400-1632441599@www.revistadelaconstruccion.com
SUMMARY:Expobiomasa 2021
DESCRIPTION:Acceder a la web del evento
URL:https://www.revistadelaconstruccion.com/evento/expobiomasa-2021/
LOCATION:Feria de Valladolid\, Valladolid\, España
END:VEVENT
END:VCALENDAR