BEGIN:VCALENDAR
VERSION:2.0
PRODID:-//Revista de la Construcción - ECPv6.7.0//NONSGML v1.0//EN
CALSCALE:GREGORIAN
METHOD:PUBLISH
X-ORIGINAL-URL:https://www.revistadelaconstruccion.com
X-WR-CALDESC:Eventos para Revista de la Construcción
REFRESH-INTERVAL;VALUE=DURATION:PT1H
X-Robots-Tag:noindex
X-PUBLISHED-TTL:PT1H
BEGIN:VTIMEZONE
TZID:Europe/Madrid
BEGIN:DAYLIGHT
TZOFFSETFROM:+0100
TZOFFSETTO:+0200
TZNAME:CEST
DTSTART:20210328T010000
END:DAYLIGHT
BEGIN:STANDARD
TZOFFSETFROM:+0200
TZOFFSETTO:+0100
TZNAME:CET
DTSTART:20211031T010000
END:STANDARD
END:VTIMEZONE
BEGIN:VEVENT
DTSTART;TZID=Europe/Madrid:20210715T100000
DTEND;TZID=Europe/Madrid:20210715T100000
DTSTAMP:20260424T033534
CREATED:20210709T081531Z
LAST-MODIFIED:20210709T081531Z
UID:6498-1626343200-1626343200@www.revistadelaconstruccion.com
SUMMARY:Rondas Técnicas: Especial Aislamiento Acústico
DESCRIPTION:Acceder a la web del evento
URL:https://www.revistadelaconstruccion.com/evento/rondas-tecnicas-especial-aislamiento-acustico/
END:VEVENT
END:VCALENDAR