BEGIN:VCALENDAR
VERSION:2.0
PRODID:-//Revista de la Construcción - ECPv6.7.0//NONSGML v1.0//EN
CALSCALE:GREGORIAN
METHOD:PUBLISH
X-ORIGINAL-URL:https://www.revistadelaconstruccion.com
X-WR-CALDESC:Eventos para Revista de la Construcción
REFRESH-INTERVAL;VALUE=DURATION:PT1H
X-Robots-Tag:noindex
X-PUBLISHED-TTL:PT1H
BEGIN:VTIMEZONE
TZID:Europe/Madrid
BEGIN:DAYLIGHT
TZOFFSETFROM:+0100
TZOFFSETTO:+0200
TZNAME:CEST
DTSTART:20210328T010000
END:DAYLIGHT
BEGIN:STANDARD
TZOFFSETFROM:+0200
TZOFFSETTO:+0100
TZNAME:CET
DTSTART:20211031T010000
END:STANDARD
END:VTIMEZONE
BEGIN:VEVENT
DTSTART;TZID=Europe/Madrid:20210622T120000
DTEND;TZID=Europe/Madrid:20210622T130000
DTSTAMP:20260424T050336
CREATED:20210621T073137Z
LAST-MODIFIED:20210621T073301Z
UID:5985-1624363200-1624366800@www.revistadelaconstruccion.com
SUMMARY:Webinar: Presentación del informe Euroconstruct de verano
DESCRIPTION:
URL:https://www.revistadelaconstruccion.com/evento/webinar-presentacion-del-informe-euroconstruct-de-verano/
CATEGORIES:Webinar
END:VEVENT
END:VCALENDAR