BEGIN:VCALENDAR
VERSION:2.0
PRODID:-//Revista de la Construcción - ECPv6.7.0//NONSGML v1.0//EN
CALSCALE:GREGORIAN
METHOD:PUBLISH
X-ORIGINAL-URL:https://www.revistadelaconstruccion.com
X-WR-CALDESC:Eventos para Revista de la Construcción
REFRESH-INTERVAL;VALUE=DURATION:PT1H
X-Robots-Tag:noindex
X-PUBLISHED-TTL:PT1H
BEGIN:VTIMEZONE
TZID:Europe/Madrid
BEGIN:DAYLIGHT
TZOFFSETFROM:+0100
TZOFFSETTO:+0200
TZNAME:CEST
DTSTART:20210328T010000
END:DAYLIGHT
BEGIN:STANDARD
TZOFFSETFROM:+0200
TZOFFSETTO:+0100
TZNAME:CET
DTSTART:20211031T010000
END:STANDARD
END:VTIMEZONE
BEGIN:VEVENT
DTSTART;TZID=Europe/Madrid:20210615T090000
DTEND;TZID=Europe/Madrid:20210616T140000
DTSTAMP:20260424T050422
CREATED:20210614T075225Z
LAST-MODIFIED:20210614T080113Z
UID:5786-1623747600-1623852000@www.revistadelaconstruccion.com
SUMMARY:Palma de Mallorca: Innovación en productos y sistemas para la construcción
DESCRIPTION:
URL:https://www.revistadelaconstruccion.com/evento/palma-de-mallorca-innovacion-en-productos-y-sistemas-para-la-construccion/
LOCATION:Polígono Can Valero\, C/ Francesc Vallduví\, 1\, Palma de Mallorca\, 07011\, España
END:VEVENT
BEGIN:VEVENT
DTSTART;VALUE=DATE:20210616
DTEND;VALUE=DATE:20210618
DTSTAMP:20260424T050422
CREATED:20210630T120435Z
LAST-MODIFIED:20210630T120435Z
UID:6329-1623801600-1623974399@www.revistadelaconstruccion.com
SUMMARY:I Feria de la Construcción de la Provincia de Cádiz
DESCRIPTION:
URL:https://www.revistadelaconstruccion.com/evento/i-feria-de-la-construccion-de-la-provincia-de-cadiz/
END:VEVENT
BEGIN:VEVENT
DTSTART;TZID=Europe/Madrid:20210616T120000
DTEND;TZID=Europe/Madrid:20210616T133000
DTSTAMP:20260424T050422
CREATED:20210614T083546Z
LAST-MODIFIED:20210614T083546Z
UID:5800-1623844800-1623850200@www.revistadelaconstruccion.com
SUMMARY:Webinar Laterlite: Impermeabilización y diseño - Duchas Cerámicas
DESCRIPTION:
URL:https://www.revistadelaconstruccion.com/evento/webinar-laterlite-impermeabilizacion-y-diseno-duchas-ceramicas/
END:VEVENT
END:VCALENDAR